BEGIN:VCALENDAR
VERSION:2.0
PRODID:-//Tongerse Modelvleugels - ECPv6.15.20//NONSGML v1.0//EN
CALSCALE:GREGORIAN
METHOD:PUBLISH
X-WR-CALNAME:Tongerse Modelvleugels
X-ORIGINAL-URL:https://tmv.be
X-WR-CALDESC:Evenementen voor Tongerse Modelvleugels
REFRESH-INTERVAL;VALUE=DURATION:PT1H
X-Robots-Tag:noindex
X-PUBLISHED-TTL:PT1H
BEGIN:VTIMEZONE
TZID:Europe/Brussels
BEGIN:DAYLIGHT
TZOFFSETFROM:+0100
TZOFFSETTO:+0200
TZNAME:CEST
DTSTART:20250330T010000
END:DAYLIGHT
BEGIN:STANDARD
TZOFFSETFROM:+0200
TZOFFSETTO:+0100
TZNAME:CET
DTSTART:20251026T010000
END:STANDARD
BEGIN:DAYLIGHT
TZOFFSETFROM:+0100
TZOFFSETTO:+0200
TZNAME:CEST
DTSTART:20260329T010000
END:DAYLIGHT
BEGIN:STANDARD
TZOFFSETFROM:+0200
TZOFFSETTO:+0100
TZNAME:CET
DTSTART:20261025T010000
END:STANDARD
BEGIN:DAYLIGHT
TZOFFSETFROM:+0100
TZOFFSETTO:+0200
TZNAME:CEST
DTSTART:20270328T010000
END:DAYLIGHT
BEGIN:STANDARD
TZOFFSETFROM:+0200
TZOFFSETTO:+0100
TZNAME:CET
DTSTART:20271031T010000
END:STANDARD
END:VTIMEZONE
BEGIN:VEVENT
DTSTART;TZID=Europe/Brussels:20260726T100000
DTEND;TZID=Europe/Brussels:20260726T170000
DTSTAMP:20260421T164817
CREATED:20260405T183019Z
LAST-MODIFIED:20260405T183019Z
UID:7919-1785060000-1785085200@tmv.be
SUMMARY:2026 B.K. F3A
DESCRIPTION:
URL:https://tmv.be/index.php/event/2026-b-k-f3a/
LOCATION:Tongerse Modelvleugels\, Boeberg 110\, Tongeren\, Limburg\, 3700\, België
CATEGORIES:F3A
ORGANIZER;CN="TMV":MAILTO:info@tmv.be
END:VEVENT
END:VCALENDAR